BEGIN:VCALENDAR
VERSION:2.0
PRODID:-//Thak Ironworks - ECPv6.15.12.2//NONSGML v1.0//EN
CALSCALE:GREGORIAN
METHOD:PUBLISH
X-WR-CALNAME:Thak Ironworks
X-ORIGINAL-URL:https://www.thak.ca
X-WR-CALDESC:Events for Thak Ironworks
REFRESH-INTERVAL;VALUE=DURATION:PT1H
X-Robots-Tag:noindex
X-PUBLISHED-TTL:PT1H
BEGIN:VTIMEZONE
TZID:America/Toronto
BEGIN:DAYLIGHT
TZOFFSETFROM:-0500
TZOFFSETTO:-0400
TZNAME:EDT
DTSTART:20240310T070000
END:DAYLIGHT
BEGIN:STANDARD
TZOFFSETFROM:-0400
TZOFFSETTO:-0500
TZNAME:EST
DTSTART:20241103T060000
END:STANDARD
BEGIN:DAYLIGHT
TZOFFSETFROM:-0500
TZOFFSETTO:-0400
TZNAME:EDT
DTSTART:20250309T070000
END:DAYLIGHT
BEGIN:STANDARD
TZOFFSETFROM:-0400
TZOFFSETTO:-0500
TZNAME:EST
DTSTART:20251102T060000
END:STANDARD
BEGIN:DAYLIGHT
TZOFFSETFROM:-0500
TZOFFSETTO:-0400
TZNAME:EDT
DTSTART:20260308T070000
END:DAYLIGHT
BEGIN:STANDARD
TZOFFSETFROM:-0400
TZOFFSETTO:-0500
TZNAME:EST
DTSTART:20261101T060000
END:STANDARD
END:VTIMEZONE
BEGIN:VEVENT
DTSTART;TZID=America/Toronto:20250811T083000
DTEND;TZID=America/Toronto:20250815T163000
DTSTAMP:20260419T134536
CREATED:20241018T143152Z
LAST-MODIFIED:20241018T143152Z
UID:10000329-1754901000-1755275400@www.thak.ca
SUMMARY:Crusader Sword Smithing Class - August 11 to August 15\, 2025
DESCRIPTION:Crusader Sword Smithing Class\n\nAug 11 – Aug 15\, 2025\n\nLearn to make a functional sword with Master Blacksmith Robb Martin (aka – THAK). \nStudents will make a modern Crusader sword from 5160 steel\, fully forged & mounted. The aim is to make a fully functional sword. \nYou will be provided with all tools and safety equipment required to attend the class. Please wear steel-toe footwear and cotton clothing. You will also be required to sign our waiver before class begins. \nStudents are required to have basic blacksmithing experience for this class\, either with THAK or elsewhere. You must be at least 16 to attend. \n$1750.00 CAD + HST \nThe course runs from 8:30 am to 4:30 pm every day. \n  \n\n       AllSword ClassSword Making ClassSword Making ClassSword Making ClassSword Making ClassSword ClassSword Making Class
URL:https://www.thak.ca/event/crusader-sword-smithing-class-august-11-to-august-15-2025/
LOCATION:THAK Ironworks\, 2282 Floradale Road\, Floradale\, Ontario\, N0B 1V0\, Canada
CATEGORIES:Blade Forging,Classes,Sword Making
ORGANIZER;CN="Robb Martin":MAILTO:robb@thak.ca
GEO:43.6358309;-80.5801458
X-APPLE-STRUCTURED-LOCATION;VALUE=URI;X-ADDRESS=THAK Ironworks 2282 Floradale Road Floradale Ontario N0B 1V0 Canada;X-APPLE-RADIUS=500;X-TITLE=2282 Floradale Road:geo:-80.5801458,43.6358309
END:VEVENT
BEGIN:VEVENT
DTSTART;TZID=America/Toronto:20250711T083000
DTEND;TZID=America/Toronto:20250712T163000
DTSTAMP:20260419T134537
CREATED:20241018T142846Z
LAST-MODIFIED:20241018T142846Z
UID:10000328-1752222600-1752337800@www.thak.ca
SUMMARY:Basic Axe Smithing Class\, July 11 - 12\, 2025
DESCRIPTION:Basic Axe Smithing Class\nJuly 11 to 12\, 2025\nYou will learn from Master Blacksmith Robb Martin. \nStudents will forge and heat treat a mono-steel axe and drift an opening for a shaped handle made of wood. \nYou will be provided with all the tools and safety equipment required to attend the class. Please wear steel-toe footwear and cotton clothing. You will also be required to sign our waiver before class begins. \nStudents are required to have basic blacksmithing experience for this class\, either with THAK or elsewhere. Must be at least 16+ to attend. \n$700.00 CAD + HST \nThe course runs from 8:30 am to 4:30 pm each day. \n        AllAxe ClassAxe ClassAxe ClassAxe ClassAxe ClassAxe ClassAxe ClassAxe ClassAxe ClassAxe ClassAxe ClassAxe ClassAxe ClassAxe Class
URL:https://www.thak.ca/event/basic-axe-smithing-class-july-11-12-2025/
LOCATION:THAK Ironworks\, 2282 Floradale Road\, Floradale\, Ontario\, N0B 1V0\, Canada
CATEGORIES:Axe Making,Blade Forging,Classes
ORGANIZER;CN="Robb Martin":MAILTO:robb@thak.ca
GEO:43.6358309;-80.5801458
X-APPLE-STRUCTURED-LOCATION;VALUE=URI;X-ADDRESS=THAK Ironworks 2282 Floradale Road Floradale Ontario N0B 1V0 Canada;X-APPLE-RADIUS=500;X-TITLE=2282 Floradale Road:geo:-80.5801458,43.6358309
END:VEVENT
BEGIN:VEVENT
DTSTART;TZID=America/Toronto:20250606T083000
DTEND;TZID=America/Toronto:20250607T163000
DTSTAMP:20260419T134537
CREATED:20241018T142617Z
LAST-MODIFIED:20241018T142617Z
UID:10000327-1749198600-1749313800@www.thak.ca
SUMMARY:Gauntlet Making Class\, June 6 - 7\, 2025
DESCRIPTION:Gauntlet Making Class\nJune 6 to June 7\, 2025\nLearn how to make a metal gauntlet as part of our armour-making classes with Master Blacksmith Robb Martin (aka – THAK). \nStudents will make one Gauntlet from predetermined template patterns\, leather and mild steel. \nYou will be provided with all tools and safety equipment required to attend the class. Please wear steel-toe footwear and cotton clothing. You will also be required to sign our waiver before class begins. \nNo prerequisite class is required for this class. but your experience will be much better with our basic blacksmithing course completed and/or sculptural experience to draw upon. Must be at least 16+ to attend. \nAll materials are included. \n$700.00 CAD + HST \n16 hours of Intensive study. The course runs from 8:30 am to 4:30 pm both days. \n 
URL:https://www.thak.ca/event/gauntlet-making-class-june-6-7-2025/
LOCATION:THAK Ironworks\, 2282 Floradale Road\, Floradale\, Ontario\, N0B 1V0\, Canada
CATEGORIES:Armour Making,Classes,Gauntlet Making
ORGANIZER;CN="Robb Martin":MAILTO:robb@thak.ca
GEO:43.6358309;-80.5801458
X-APPLE-STRUCTURED-LOCATION;VALUE=URI;X-ADDRESS=THAK Ironworks 2282 Floradale Road Floradale Ontario N0B 1V0 Canada;X-APPLE-RADIUS=500;X-TITLE=2282 Floradale Road:geo:-80.5801458,43.6358309
END:VEVENT
BEGIN:VEVENT
DTSTART;TZID=America/Toronto:20250509T083000
DTEND;TZID=America/Toronto:20250510T163000
DTSTAMP:20260419T134537
CREATED:20241018T142337Z
LAST-MODIFIED:20241018T142337Z
UID:10000326-1746779400-1746894600@www.thak.ca
SUMMARY:2 Day Knife Forging Class May 9 to 10\, 2025
DESCRIPTION:2 Day Knife Forging Class\nMay 9 – May 10\, 2025\nYou will learn from Master Blacksmith Robb Martin. \nThis 2-day class will take you through Forging\, knife geometry\, heat treatment and final grind.  Students will forge two knives ready to take home to continue working on. \nYou will be provided with all the tools and safety equipment required to attend the class. Please wear steel-toe footwear and cotton clothing. You will also be required to sign our waiver before class begins. \nNo prerequisite class is required for this class\, although we recommend having some blacksmithing experience. You must be at least 16+ to attend. \n$700.00 CAD + HST \n       robb martin2 Day Knife ClassRobb MartinKnife making
URL:https://www.thak.ca/event/2-day-knife-forging-class-may-9-to-10-2025/
LOCATION:THAK Ironworks\, 2282 Floradale Road\, Floradale\, Ontario\, N0B 1V0\, Canada
CATEGORIES:Blade Forging,Classes,Knife Making
ORGANIZER;CN="Robb Martin":MAILTO:robb@thak.ca
GEO:43.6358309;-80.5801458
X-APPLE-STRUCTURED-LOCATION;VALUE=URI;X-ADDRESS=THAK Ironworks 2282 Floradale Road Floradale Ontario N0B 1V0 Canada;X-APPLE-RADIUS=500;X-TITLE=2282 Floradale Road:geo:-80.5801458,43.6358309
END:VEVENT
BEGIN:VEVENT
DTSTART;TZID=America/Toronto:20250411T083000
DTEND;TZID=America/Toronto:20250412T163000
DTSTAMP:20260419T134537
CREATED:20241018T142045Z
LAST-MODIFIED:20241018T142045Z
UID:10000325-1744360200-1744475400@www.thak.ca
SUMMARY:Helmet Making Class - April 11 to 12\, 2025
DESCRIPTION:Helmet Making Class\nApril 11 – April 12\, 2025\nLearn how to make a metal helmet as part of our armour making classes with Master Blacksmith\, Robb Martin (aka – THAK). \nStudents will learn to make a basic helmet from predetermined templates distributed in class. \nYou will be provided with all the tools and safety equipment required to attend the class. Please wear steel-toe footwear and cotton clothing. You will also be required to sign our waiver before class begins. \nNo prerequisite class required for this class. but your experience will be much better with our basic blacksmithing course completed first. Must be at least 16+ to attend. \nAll materials included. \n$700.00 CAD + HST \n16 hours of Intensive study. The course runs from 8:30 am to 4:30 pm both days.
URL:https://www.thak.ca/event/helmet-making-class-april-11-to-12-2025/
LOCATION:THAK Ironworks\, 2282 Floradale Road\, Floradale\, Ontario\, N0B 1V0\, Canada
CATEGORIES:Armour Making,Classes,Helmet Making
ORGANIZER;CN="Robb Martin":MAILTO:robb@thak.ca
GEO:43.6358309;-80.5801458
X-APPLE-STRUCTURED-LOCATION;VALUE=URI;X-ADDRESS=THAK Ironworks 2282 Floradale Road Floradale Ontario N0B 1V0 Canada;X-APPLE-RADIUS=500;X-TITLE=2282 Floradale Road:geo:-80.5801458,43.6358309
END:VEVENT
END:VCALENDAR