BEGIN:VCALENDAR
VERSION:2.0
PRODID:-//Thak Ironworks - ECPv6.15.12.2//NONSGML v1.0//EN
CALSCALE:GREGORIAN
METHOD:PUBLISH
X-WR-CALNAME:Thak Ironworks
X-ORIGINAL-URL:https://www.thak.ca
X-WR-CALDESC:Events for Thak Ironworks
REFRESH-INTERVAL;VALUE=DURATION:PT1H
X-Robots-Tag:noindex
X-PUBLISHED-TTL:PT1H
BEGIN:VTIMEZONE
TZID:America/Toronto
BEGIN:DAYLIGHT
TZOFFSETFROM:-0500
TZOFFSETTO:-0400
TZNAME:EDT
DTSTART:20250309T070000
END:DAYLIGHT
BEGIN:STANDARD
TZOFFSETFROM:-0400
TZOFFSETTO:-0500
TZNAME:EST
DTSTART:20251102T060000
END:STANDARD
BEGIN:DAYLIGHT
TZOFFSETFROM:-0500
TZOFFSETTO:-0400
TZNAME:EDT
DTSTART:20260308T070000
END:DAYLIGHT
BEGIN:STANDARD
TZOFFSETFROM:-0400
TZOFFSETTO:-0500
TZNAME:EST
DTSTART:20261101T060000
END:STANDARD
BEGIN:DAYLIGHT
TZOFFSETFROM:-0500
TZOFFSETTO:-0400
TZNAME:EDT
DTSTART:20270314T070000
END:DAYLIGHT
BEGIN:STANDARD
TZOFFSETFROM:-0400
TZOFFSETTO:-0500
TZNAME:EST
DTSTART:20271107T060000
END:STANDARD
END:VTIMEZONE
BEGIN:VEVENT
DTSTART;TZID=America/Toronto:20260605T083000
DTEND;TZID=America/Toronto:20260606T163000
DTSTAMP:20260421T095441
CREATED:20251007T195337Z
LAST-MODIFIED:20260323T160836Z
UID:10000339-1780648200-1780763400@www.thak.ca
SUMMARY:Helmet Making Class - June 5 to 6\, 2026
DESCRIPTION:Helmet Making Class\nJune 5 – June 6\, 2026\nLearn how to make a metal helmet as part of our armour making classes with Master Blacksmith\, Robb Martin (aka – THAK). \nStudents will learn to make a basic helmet from predetermined templates distributed in class. \nYou will be provided with all the tools and safety equipment required to attend the class. Please wear steel-toe footwear and cotton clothing. You will also be required to sign our waiver before class begins. \nNo prerequisite class required for this class. but your experience will be much better with our basic blacksmithing course completed first. Must be at least 16+ to attend. \nAll materials included. \n$700.00 CAD + HST \n16 hours of Intensive study. The course runs from 8:30 am to 4:30 pm both days.
URL:https://www.thak.ca/event/helmet-making-class-march-27-to-28-2026/
LOCATION:THAK Ironworks\, 2282 Floradale Road\, Floradale\, Ontario\, N0B 1V0\, Canada
CATEGORIES:Armour Making,Classes,Helmet Making
ORGANIZER;CN="Robb Martin":MAILTO:robb@thak.ca
GEO:43.6358309;-80.5801458
X-APPLE-STRUCTURED-LOCATION;VALUE=URI;X-ADDRESS=THAK Ironworks 2282 Floradale Road Floradale Ontario N0B 1V0 Canada;X-APPLE-RADIUS=500;X-TITLE=2282 Floradale Road:geo:-80.5801458,43.6358309
END:VEVENT
END:VCALENDAR